BEGIN:VCALENDAR
VERSION:2.0
PRODID:-//ቅድስት ልደታ ለማርያም ቤተ ክርስትያን ሚልዋኪ - ECPv6.15.20//NONSGML v1.0//EN
CALSCALE:GREGORIAN
METHOD:PUBLISH
X-WR-CALNAME:ቅድስት ልደታ ለማርያም ቤተ ክርስትያን ሚልዋኪ
X-ORIGINAL-URL:https://eotcledeta.org
X-WR-CALDESC:Events for ቅድስት ልደታ ለማርያም ቤተ ክርስትያን ሚልዋኪ
REFRESH-INTERVAL;VALUE=DURATION:PT1H
X-Robots-Tag:noindex
X-PUBLISHED-TTL:PT1H
BEGIN:VTIMEZONE
TZID:UTC
BEGIN:STANDARD
TZOFFSETFROM:+0000
TZOFFSETTO:+0000
TZNAME:UTC
DTSTART:20230101T000000
END:STANDARD
END:VTIMEZONE
BEGIN:VEVENT
DTSTART;TZID=UTC:20240616T120000
DTEND;TZID=UTC:20240616T180000
DTSTAMP:20260423T181428
CREATED:20240614T122953Z
LAST-MODIFIED:20240614T123001Z
UID:478-1718539200-1718560800@eotcledeta.org
SUMMARY:Taste of Ethiopia and Eritrea
DESCRIPTION:Welcome to the “Taste of Ethiopia and Eritrea”\, an event dedicated to sharing\, celebrating\, and socializing around the rich and vibrant cultures of Ethiopia and Eritrea in the Greater Milwaukee Area. This event brings together the community to experience the unique traditions\, flavors\, and artistic expressions that make these cultures so special. Join us as we explore the diverse culinary delights and traditional dances that showcase the heritage of Ethiopia and Eritrea. \nThis celebration is a perfect opportunity to learn about the history and customs of these East African nations while also fostering connections within our local community. Whether you’re here to enjoy the savory and spicy dishes\, appreciate the intricate art forms\, or simply meet new people and share stories\, the “Taste of Ethiopia and Eritrea” promises an unforgettable cultural journey. Let’s come together to honor and embrace the beauty of Ethiopian and Eritrean cultures in the heart of Milwaukee.
URL:https://eotcledeta.org/event/taste-of-ethiopia-and-eritrea-day2/
LOCATION:Kidest Ledeta Lemariam church Milwaukee\, 6911 S 20th St\, Milwaukee\, WI\, 53154\, United States
ATTACH;FMTTYPE=image/jpeg:https://eotcledeta.org/wp-content/uploads/2024/06/Ethio-Eriterea.jpg
END:VEVENT
BEGIN:VEVENT
DTSTART;TZID=UTC:20240615T100000
DTEND;TZID=UTC:20240615T180000
DTSTAMP:20260423T181428
CREATED:20240614T121904Z
LAST-MODIFIED:20240614T121904Z
UID:474-1718445600-1718474400@eotcledeta.org
SUMMARY:Taste of Ethiopia and Eritrea
DESCRIPTION:Welcome to the “Taste of Ethiopia and Eritrea”\, an event dedicated to sharing\, celebrating\, and socializing around the rich and vibrant cultures of Ethiopia and Eritrea in the Greater Milwaukee Area. This event brings together the community to experience the unique traditions\, flavors\, and artistic expressions that make these cultures so special. Join us as we explore the diverse culinary delights and traditional dances that showcase the heritage of Ethiopia and Eritrea. \nThis celebration is a perfect opportunity to learn about the history and customs of these East African nations while also fostering connections within our local community. Whether you’re here to enjoy the savory and spicy dishes\, appreciate the intricate art forms\, or simply meet new people and share stories\, the “Taste of Ethiopia and Eritrea” promises an unforgettable cultural journey. Let’s come together to honor and embrace the beauty of Ethiopian and Eritrean cultures in the heart of Milwaukee.
URL:https://eotcledeta.org/event/taste-of-ethiopia-and-eritrea/
LOCATION:Kidest Ledeta Lemariam church Milwaukee\, 6911 S 20th St\, Milwaukee\, WI\, 53154\, United States
ATTACH;FMTTYPE=image/jpeg:https://eotcledeta.org/wp-content/uploads/2024/06/Ethio-Eriterea.jpg
END:VEVENT
END:VCALENDAR